BEGIN:VCALENDAR
VERSION:2.0
PRODID:-//Brown Adult Day Program - ECPv6.15.20//NONSGML v1.0//EN
CALSCALE:GREGORIAN
METHOD:PUBLISH
X-ORIGINAL-URL:https://www.brownadultday.org
X-WR-CALDESC:Events for Brown Adult Day Program
REFRESH-INTERVAL;VALUE=DURATION:PT1H
X-Robots-Tag:noindex
X-PUBLISHED-TTL:PT1H
BEGIN:VTIMEZONE
TZID:America/Detroit
BEGIN:DAYLIGHT
TZOFFSETFROM:-0500
TZOFFSETTO:-0400
TZNAME:EDT
DTSTART:20250309T070000
END:DAYLIGHT
BEGIN:STANDARD
TZOFFSETFROM:-0400
TZOFFSETTO:-0500
TZNAME:EST
DTSTART:20251102T060000
END:STANDARD
BEGIN:DAYLIGHT
TZOFFSETFROM:-0500
TZOFFSETTO:-0400
TZNAME:EDT
DTSTART:20260308T070000
END:DAYLIGHT
BEGIN:STANDARD
TZOFFSETFROM:-0400
TZOFFSETTO:-0500
TZNAME:EST
DTSTART:20261101T060000
END:STANDARD
BEGIN:DAYLIGHT
TZOFFSETFROM:-0500
TZOFFSETTO:-0400
TZNAME:EDT
DTSTART:20270314T070000
END:DAYLIGHT
BEGIN:STANDARD
TZOFFSETFROM:-0400
TZOFFSETTO:-0500
TZNAME:EST
DTSTART:20271107T060000
END:STANDARD
END:VTIMEZONE
BEGIN:VEVENT
DTSTART;TZID=America/Detroit:20260315T130000
DTEND;TZID=America/Detroit:20260315T150000
DTSTAMP:20260422T043423
CREATED:20260223T160712Z
LAST-MODIFIED:20260223T160750Z
UID:969-1773579600-1773586800@www.brownadultday.org
SUMMARY:Music & Dementia Inside Out: Experience the Power of Music for People Living with Dementia
DESCRIPTION:Join us for an interactive and educational program led by Julie Bodson\, MT-BC\, Board-Certified Music Therapist 20+ years supporting older adults and care partners. \nMarch 15th 1:00 p.m. \nThe Brown Center – West Bloomfield 6720 West Maple Rd. \nRegister: http://jlive.app/events/14754 \nFor any questions\, please reach out to Joanna Dorfman at jdorfman@jslmi.org or 248 661-6390 ext. 1.
URL:https://www.brownadultday.org/event/music-dementia-inside-out-experience-the-power-of-music-for-people-living-with-dementia/
ATTACH;FMTTYPE=image/png:https://www.brownadultday.org/wp-content/uploads/2026/02/Brown-Center-Event-March-2026.png
END:VEVENT
END:VCALENDAR