BEGIN:VCALENDAR
VERSION:2.0
PRODID:-//Brown Adult Day Program - ECPv6.15.20//NONSGML v1.0//EN
CALSCALE:GREGORIAN
METHOD:PUBLISH
X-WR-CALNAME:Brown Adult Day Program
X-ORIGINAL-URL:https://www.brownadultday.org
X-WR-CALDESC:Events for Brown Adult Day Program
REFRESH-INTERVAL;VALUE=DURATION:PT1H
X-Robots-Tag:noindex
X-PUBLISHED-TTL:PT1H
BEGIN:VTIMEZONE
TZID:America/Detroit
BEGIN:DAYLIGHT
TZOFFSETFROM:-0500
TZOFFSETTO:-0400
TZNAME:EDT
DTSTART:20240310T070000
END:DAYLIGHT
BEGIN:STANDARD
TZOFFSETFROM:-0400
TZOFFSETTO:-0500
TZNAME:EST
DTSTART:20241103T060000
END:STANDARD
BEGIN:DAYLIGHT
TZOFFSETFROM:-0500
TZOFFSETTO:-0400
TZNAME:EDT
DTSTART:20250309T070000
END:DAYLIGHT
BEGIN:STANDARD
TZOFFSETFROM:-0400
TZOFFSETTO:-0500
TZNAME:EST
DTSTART:20251102T060000
END:STANDARD
BEGIN:DAYLIGHT
TZOFFSETFROM:-0500
TZOFFSETTO:-0400
TZNAME:EDT
DTSTART:20260308T070000
END:DAYLIGHT
BEGIN:STANDARD
TZOFFSETFROM:-0400
TZOFFSETTO:-0500
TZNAME:EST
DTSTART:20261101T060000
END:STANDARD
BEGIN:DAYLIGHT
TZOFFSETFROM:-0500
TZOFFSETTO:-0400
TZNAME:EDT
DTSTART:20270314T070000
END:DAYLIGHT
BEGIN:STANDARD
TZOFFSETFROM:-0400
TZOFFSETTO:-0500
TZNAME:EST
DTSTART:20271107T060000
END:STANDARD
END:VTIMEZONE
BEGIN:VEVENT
DTSTART;TZID=America/Detroit:20260129T140000
DTEND;TZID=America/Detroit:20260129T160000
DTSTAMP:20260421T195833
CREATED:20251217T210539Z
LAST-MODIFIED:20251217T210700Z
UID:956-1769695200-1769702400@www.brownadultday.org
SUMMARY:New Advances in Alzheimer’s Treatments: Understanding Together
DESCRIPTION:
URL:https://www.brownadultday.org/event/new-advances-in-alzheimers-treatments-understanding-together/
ATTACH;FMTTYPE=image/png:https://www.brownadultday.org/wp-content/uploads/2025/12/January-2026-Brown-Event-v6.png
END:VEVENT
BEGIN:VEVENT
DTSTART;TZID=America/Detroit:20251026T103000
DTEND;TZID=America/Detroit:20251026T153000
DTSTAMP:20260421T195833
CREATED:20250909T135405Z
LAST-MODIFIED:20250909T140945Z
UID:947-1761474600-1761492600@www.brownadultday.org
SUMMARY:A Day Off for Caregivers
DESCRIPTION:
URL:https://www.brownadultday.org/event/a-day-off-for-caregivers-2/
ATTACH;FMTTYPE=image/png:https://www.brownadultday.org/wp-content/uploads/2025/09/Day-off-for-Caregivers-October-2025.png
END:VEVENT
BEGIN:VEVENT
DTSTART;TZID=America/Detroit:20250928T110000
DTEND;TZID=America/Detroit:20250928T123000
DTSTAMP:20260421T195833
CREATED:20250825T163232Z
LAST-MODIFIED:20250825T182340Z
UID:937-1759057200-1759062600@www.brownadultday.org
SUMMARY:Dementia-Friendly Kol Nidre/Yom Kippur Service
DESCRIPTION: 
URL:https://www.brownadultday.org/event/dementia-friendly-kol-nidre-yom-kippur-service/
LOCATION:Fleischman Residence Chapel\, 6710 W Maple Rd\, West Bloomfield Township\, MI\, 48322\, United States
END:VEVENT
BEGIN:VEVENT
DTSTART;TZID=America/Detroit:20250813T183000
DTEND;TZID=America/Detroit:20250813T200000
DTSTAMP:20260421T195833
CREATED:20250521T174420Z
LAST-MODIFIED:20250521T174505Z
UID:919-1755109800-1755115200@www.brownadultday.org
SUMMARY:Alzheimer’s Through the Stages
DESCRIPTION:
URL:https://www.brownadultday.org/event/alzheimers-through-the-stages/
END:VEVENT
BEGIN:VEVENT
DTSTART;TZID=America/Detroit:20250604T183000
DTEND;TZID=America/Detroit:20250604T200000
DTSTAMP:20260421T195833
CREATED:20250521T174914Z
LAST-MODIFIED:20250521T174914Z
UID:924-1749061800-1749067200@www.brownadultday.org
SUMMARY:Start The Conversation: Talking to a Loved One about Dementia
DESCRIPTION:
URL:https://www.brownadultday.org/event/start-the-conversation-talking-to-a-loved-one-about-dementia/
END:VEVENT
BEGIN:VEVENT
DTSTART;TZID=America/Detroit:20250424T183000
DTEND;TZID=America/Detroit:20250424T200000
DTSTAMP:20260421T195833
CREATED:20250312T175444Z
LAST-MODIFIED:20250312T204311Z
UID:898-1745519400-1745524800@www.brownadultday.org
SUMMARY:Community Forum: Jewish Community Resources for the Dementia Journey
DESCRIPTION:Registration: http://jlive.app/events/10962
URL:https://www.brownadultday.org/event/jewish-community-resources-for-the-dementia-journey/
END:VEVENT
BEGIN:VEVENT
DTSTART;TZID=America/Detroit:20250406T103000
DTEND;TZID=America/Detroit:20250406T150000
DTSTAMP:20260421T195833
CREATED:20250213T204624Z
LAST-MODIFIED:20250213T204624Z
UID:813-1743935400-1743951600@www.brownadultday.org
SUMMARY:A Day Off For Caregivers
DESCRIPTION:
URL:https://www.brownadultday.org/event/a-day-off-for-caregivers/
LOCATION:Soul Cafe\, 5586 Drake Rd\, West Bloomfield\, MI\, 48322\, United States
END:VEVENT
BEGIN:VEVENT
DTSTART;TZID=America/Detroit:20250302T130000
DTEND;TZID=America/Detroit:20250302T150000
DTSTAMP:20260421T195833
CREATED:20250213T204214Z
LAST-MODIFIED:20250213T204214Z
UID:810-1740920400-1740927600@www.brownadultday.org
SUMMARY:Navigating the Journey of Dementia
DESCRIPTION:
URL:https://www.brownadultday.org/event/navigating-the-journey-of-dementia/
LOCATION:The Brown Center – West Bloomfield\, 6720 W Maple Rd\, West Bloomfield\, MI\, 48322\, United States
END:VEVENT
BEGIN:VEVENT
DTSTART;TZID=America/Detroit:20250219T130000
DTEND;TZID=America/Detroit:20250219T143000
DTSTAMP:20260421T195833
CREATED:20250213T202300Z
LAST-MODIFIED:20250213T202300Z
UID:806-1739970000-1739975400@www.brownadultday.org
SUMMARY:Chronic Pain and Brain Health
DESCRIPTION:
URL:https://www.brownadultday.org/event/chronic-pain-and-brain-health/
LOCATION:Jewish Family Service\, 6555 West Maple Road\, West Bloomfield\, MI\, United States
END:VEVENT
BEGIN:VEVENT
DTSTART;TZID=America/Detroit:20250114T140000
DTEND;TZID=America/Detroit:20250114T150000
DTSTAMP:20260421T195833
CREATED:20250113T162224Z
LAST-MODIFIED:20250113T181158Z
UID:681-1736863200-1736866800@www.brownadultday.org
SUMMARY:Dance & Movement
DESCRIPTION:A dance and movement therapist gets us moving with the creative flair that many of us didn’t even know we possessed!  No dance experience is necessary\, and the session can be done in a chair as needed.  It’s great exercise for the body and the imagination. This program does not require a membership.  It’s free! 
URL:https://www.brownadultday.org/event/dance-movement/
END:VEVENT
END:VCALENDAR